BEGIN:VCALENDAR
VERSION:2.0
PRODID:-//Plone.org//NONSGML plone.app.event//EN
X-WR-TIMEZONE:US/Central
BEGIN:VEVENT
SUMMARY:Free computer classes offered
DTSTART;TZID=US/Central:20230314T100000
DTEND;TZID=US/Central:20230314T110000
DTSTAMP:20260420T162236Z
UID:f32089d727ac4b198a72e792d8c2a3cd@saas_stack_varnish:6080
RRULE:FREQ=WEEKLY;UNTIL=20230329T000000;BYDAY=MO,TU,WE,TH,FR
EXDATE;TZID=US/Central:20230315T000000,20230317T000000,20230318T000000,202
 30319T000000,20230320T000000,20230322T000000,20230324T000000,20230325T0000
 00,20230326T000000,20230327T000000,20230328T000000
CONTACT:Heather Harris\, 906-352-4111
CREATED:20221011T221151Z
DESCRIPTION:The Menominee County Library will be offering free computer cl
 asses and tech help to people that are new to computer and internet use\, 
 and in navigating everyday smart phone and device challenges. Call the lib
 rary for more information and to sign up.
LAST-MODIFIED:20230308T212135Z
LOCATION:Menominee County Library\, Stephenson\, MI
URL:https://www.menomineecountylibrary.org/news-events/events/free-compute
 r-classes-offered
END:VEVENT
BEGIN:VTIMEZONE
TZID:US/Central
X-LIC-LOCATION:US/Central
BEGIN:DAYLIGHT
DTSTART:20230312T030000
TZNAME:CDT
TZOFFSETFROM:-0600
TZOFFSETTO:-0500
END:DAYLIGHT
END:VTIMEZONE
END:VCALENDAR
